BEGIN:VCALENDAR
VERSION:2.0
PRODID:-//Node Institute - ECPv6.15.18//NONSGML v1.0//EN
CALSCALE:GREGORIAN
METHOD:PUBLISH
X-WR-CALNAME:Node Institute
X-ORIGINAL-URL:https://www.nodeinstitute.org
X-WR-CALDESC:Events for Node Institute
REFRESH-INTERVAL;VALUE=DURATION:PT1H
X-Robots-Tag:noindex
X-PUBLISHED-TTL:PT1H
BEGIN:VTIMEZONE
TZID:Europe/Athens
BEGIN:DAYLIGHT
TZOFFSETFROM:+0200
TZOFFSETTO:+0300
TZNAME:EEST
DTSTART:20240331T010000
END:DAYLIGHT
BEGIN:STANDARD
TZOFFSETFROM:+0300
TZOFFSETTO:+0200
TZNAME:EET
DTSTART:20241027T010000
END:STANDARD
BEGIN:DAYLIGHT
TZOFFSETFROM:+0200
TZOFFSETTO:+0300
TZNAME:EEST
DTSTART:20250330T010000
END:DAYLIGHT
BEGIN:STANDARD
TZOFFSETFROM:+0300
TZOFFSETTO:+0200
TZNAME:EET
DTSTART:20251026T010000
END:STANDARD
BEGIN:DAYLIGHT
TZOFFSETFROM:+0200
TZOFFSETTO:+0300
TZNAME:EEST
DTSTART:20260329T010000
END:DAYLIGHT
BEGIN:STANDARD
TZOFFSETFROM:+0300
TZOFFSETTO:+0200
TZNAME:EET
DTSTART:20261025T010000
END:STANDARD
END:VTIMEZONE
BEGIN:VEVENT
DTSTART;VALUE=DATE:20251212
DTEND;VALUE=DATE:20251214
DTSTAMP:20260423T174407
CREATED:20251017T061312Z
LAST-MODIFIED:20251111T095701Z
UID:12903-1765497600-1765670399@www.nodeinstitute.org
SUMMARY:Breast Reconstruction Cadaveric Course
DESCRIPTION:12 Δεκεμβρίου\n\n		\n	\n	  -  \n\n	13 Δεκεμβρίου\n\n	\n				\n				\n				\n				\n					\n	Breast Reconstruction Cadaveric Course				\n				\n				\n				\n							\n							\n											\n													\n										Αμφιθέατρο Ν.Λούρος Νοσοκομείου ΜΗΤΕΡΑ (Παρασκευή) - Ερευνητικό & Πειραματικό κέντρο ΕΛΠΕΝ (Σάββατο)\n									\n						\n						\n				\n				\n				\n					This event has passed. \n				\n				\n				\n		\n				\n				\n									\n					\n						\n						\n							\n									Όλα τα σεμινάρια\n					\n					\n				\n								\n				\n				\n				\n					\n	« All Events\n 				\n				\n				\n					\n				\n		\n					\n		\n				\n				\n									Για τρίτη συνεχόμενη χρονιά  το NoDE Institute\, με την επιστημονική επιμέλεια της Δ’ Κλινικής Μαστού του ΜΗΤΕΡΑ και υπό την αιγίδα της Ιατρικής Σχολής του Πανεπιστημίου Αθηνών\, διοργανώνει το σεμινάριο πρακτικής εκπαίδευσης στην ογκοπλαστική χειρουργική και αποκατάσταση του μαστού σε πτωματικά προπλάσματα  ‘’Breast Reconstruction Cadaveric Course’’.								\n				\n				\n				\n									Το σεμινάριο απευθύνεται σε χειρουργούς που έχουν εμπειρία στη χειρουργική του μαστού και αποσκοπεί στην ανάπτυξη δεξιοτήτων στις σύγχρονες τεχνικές. Η διάρκεια του εργαστηρίου είναι δύο ημέρες και περιλαμβάνει:								\n				\n				\n				\n									την πρώτη μέρα το θεωρητικό σκέλος								\n				\n				\n				\n									τη δεύτερη μέρα πρακτική άσκηση σε πτωματικά προπλάσματα υπό συνθήκες χειρουργείου.								\n				\n				\n				\n									Μέσω ενός συνδυασμού διαδραστικών εργαστηρίων\, αναλύσεων περιστατικών και επιστημονικών διαλέξεων\, το πρόγραμμα αποσκοπεί στην ενίσχυση της ικανότητας των εκπαιδευόμενων στην επίτευξη άριστων αποτελεσμάτων\, με απόλυτο σεβασμό στις θεμελιώδεις ογκολογικές αρχές.								\n				\n				\n				\n									Τέλος οι εκπαιδευόμενοι θα έχουν την ευκαιρία να εφαρμόσουν εξειδικευμένες τεχνικές υπό πραγματικές ανατομικές συνθήκες σε πτωματικά προπλάσματα(fresh frozen cadavers)\, υπό την καθοδήγηση έγκριτων χειρουργών μαστού και πλαστικών χειρουργών.								\n				\n				\n				\n									Προθεσμία υποβολής αιτήσεων έως και την Κυριακή 28 Σεπτεμβρίου 2025. 								\n				\n				\n					\n				\n		\n					\n				\n				\n									\n					\n						\n									ΑΙΤΗΣΗ ΣΥΜΜΕΤΟΧΗΣ\n					\n					\n				\n								\n				\n					\n				\n		\n					\n				\n				\n									Day 1 | Theoretical Session | Friday\, December 12th 2025								\n				\n				\n				\n							\n							\n											\n													\n										Conference Center LOUROS\, Mitera Hospital\n									\n						\n						\n				\n					\n				\n		\n					\n		\n		\n				\n				\n									08:45 – 09:00								\n				\n				\n		\n				\n				\n									Welcome speech								\n				\n				\n		\n				\n		\n				\n				\n							\n				\n				\n			\n		\n				\n				\n			\n				Παρασκευάκου Γεωργία			\n		\n				\n				\n				\n		\n						\n				\n				\n				\n					\n				\n		\n					\n		\n		\n				\n				\n									09:00 – 09:30								\n				\n				\n		\n				\n				\n									Radiology for surgeons – Localization techniques								\n				\n				\n		\n				\n		\n				\n				\n							\n				\n				\n			\n		\n				\n				\n			\n				Δουβετζέμης Στέργιος			\n		\n				\n				\n				\n		\n						\n				\n				\n				\n					\n				\n		\n					\n		\n		\n				\n				\n									09:30 – 10:00								\n				\n				\n		\n				\n				\n									Ultrasound-Guided\, Vacuum-Assisted Excision in the Diagnosis and Treatment of Breast Lesions								\n				\n				\n		\n				\n		\n				\n				\n							\n				\n				\n			\n		\n				\n				\n			\n				Χατζόπουλος Κωνσταντίνος			\n		\n				\n				\n				\n		\n						\n				\n				\n				\n					\n				\n		\n					\n		\n		\n				\n				\n									10:00 – 10:30								\n				\n				\n		\n				\n				\n									Oncoplastic breast surgery: Tips & Tricks; How to mark								\n				\n				\n		\n				\n		\n				\n				\n							\n				\n				\n			\n		\n				\n				\n			\n				Μιχαλόπουλος Νικόλαος			\n		\n				\n				\n				\n		\n						\n				\n				\n				\n					\n				\n		\n					\n		\n		\n				\n				\n									10:30 – 11:00								\n				\n				\n		\n				\n				\n									New trends in breast cancer surgery								\n				\n				\n		\n				\n		\n				\n				\n							\n				\n				\n			\n		\n				\n				\n			\n				Γροσομανίδης Δημήτριος			\n		\n				\n				\n				\n		\n						\n				\n				\n				\n					\n				\n		\n					\n		\n		\n				\n				\n									11:00 – 11.20								\n				\n				\n		\n				\n				\n									Discussion / Questions								\n				\n				\n		\n				\n		\n				\n				\n					\n				\n		\n					\n		\n		\n				\n				\n									11:20 – 11.50								\n				\n				\n		\n				\n				\n									Coffee break								\n				\n				\n		\n				\n				\n					\n				\n		\n					\n		\n		\n				\n				\n									11:50 – 12:20								\n				\n				\n		\n				\n				\n									Mastectomy vs Conservative treatment								\n				\n				\n		\n				\n		\n				\n				\n							\n				\n				\n			\n		\n				\n				\n			\n				Μπακάλη Αικατερίνη			\n		\n				\n				\n				\n		\n						\n				\n				\n				\n					\n				\n		\n					\n		\n		\n				\n				\n									12:20 – 12:50								\n				\n				\n		\n				\n				\n									Nipple sparing mastectomy:Indications\,Contraindications & Complications								\n				\n				\n		\n				\n		\n				\n				\n							\n				\n				\n			\n		\n				\n				\n			\n				Σταφυλά Βάϊα			\n		\n				\n				\n				\n		\n						\n				\n				\n				\n					\n				\n		\n					\n		\n		\n				\n				\n									12:50 – 13:20								\n				\n				\n		\n				\n				\n									Pre-pectoral VS Sub-pectoral reconstruction								\n				\n				\n		\n				\n		\n				\n				\n							\n				\n				\n			\n		\n				\n				\n			\n				Παρασκευάκου Γεωργία			\n		\n				\n				\n				\n		\n						\n				\n				\n				\n					\n				\n		\n					\n		\n		\n				\n				\n									13:20 – 13:50								\n				\n				\n		\n				\n				\n									How to choose the right implant & the right mesh								\n				\n				\n		\n				\n		\n				\n				\n							\n				\n				\n			\n		\n				\n				\n			\n				Στυλιανάκη Αικατερίνη			\n		\n				\n				\n				\n		\n						\n				\n				\n				\n					\n				\n		\n					\n		\n		\n				\n				\n									13:50-14:15								\n				\n				\n		\n				\n				\n									Discussion / Questions								\n				\n				\n		\n				\n		\n				\n				\n					\n				\n		\n					\n		\n		\n				\n				\n									14:30								\n				\n				\n		\n				\n				\n									End of Day 1								\n				\n				\n		\n				\n		\n				\n				\n					\n				\n		\n					\n				\n				\n									Day 2 | Hands on on Human Cadavers | Saturday\, December 13th 2025								\n				\n				\n				\n							\n							\n											\n													\n										Elpen Experimental Research & Training Center\n									\n						\n						\n				\n					\n				\n		\n					\n		\n		\n				\n				\n									08:30 – 10:45								\n				\n				\n		\n				\n				\n									Session 1: Hands-on Cadaveric Session								\n				\n				\n				\n									Ultrasonography-Guided Surgical Clip Placement for Tumor Localization – Localization techniques -minimally invasive vacuum-assisted excision (VAE)								\n				\n				\n		\n				\n		\n				\n				\n									All Faculty 								\n				\n				\n				\n					\n				\n		\n					\n		\n		\n				\n				\n									10:45 – 11.15								\n				\n				\n		\n				\n				\n									Discussion								\n				\n				\n		\n				\n				\n					\n				\n		\n					\n		\n		\n				\n				\n									11.15 – 13:15								\n				\n				\n		\n				\n				\n									Session 2: Hands-on Cadaveric Session								\n				\n				\n				\n									Round block / Lateral mammoplasty								\n				\n				\n		\n				\n		\n				\n				\n									All Faculty 								\n				\n				\n				\n					\n				\n		\n					\n		\n		\n				\n				\n									13.15 – 13.45								\n				\n				\n		\n				\n				\n									Lunch Break								\n				\n				\n		\n				\n				\n					\n				\n		\n					\n		\n		\n				\n				\n									13.45 – 15.45								\n				\n				\n		\n				\n				\n									Session 3: Hands-on Cadaveric Session								\n				\n				\n				\n									Nipple sparing mastectomy & Pre-pectoral reconstruction / Simple mastectomy &\nSub-pectoral reconstruction								\n				\n				\n		\n				\n		\n				\n				\n									All Faculty 								\n				\n				\n				\n					\n				\n		\n					\n		\n		\n				\n				\n									16:00								\n				\n				\n		\n				\n				\n									Discussion- End of course								\n				\n				\n		\n				\n				\n					\n				\n		\n					\n		\n		\n				\n				\n							\n				\n				\n			\n		\n				\n				\n			\n				Σκολαρίκος Α.			\n		\n				\n				\n				\n		\n						\n				\n				\n		\n				\n				\n							\n				\n				\n			\n		\n				\n				\n			\n				Καραβιτάκης Μάρκος			\n		\n				\n				\n				\n		\n						\n				\n				\n		\n				\n				\n							\n				\n				\n			\n		\n				\n				\n			\n				Καλληδώνης Π.			\n		\n				\n				\n				\n		\n						\n				\n				\n		\n				\n				\n							\n				\n				\n			\n		\n				\n				\n			\n				Ξωξάκος Ι.			\n		\n				\n				\n				\n		\n						\n				\n				\n		\n				\n				\n							\n				\n				\n			\n		\n				\n				\n			\n				Φραγκιάδης Ε.			\n		\n				\n				\n				\n		\n						\n				\n				\n		\n				\n				\n							\n				\n				\n			\n		\n				\n				\n			\n				Τσελβές Λ.			\n		\n				\n				\n				\n		\n						\n				\n				\n				\n					\n				\n		\n					\n				\n				\n									\n					\n						\n									ΔΕΙΤΕ ΤΟ ΠΡΟΓΡΑΜΜΑ ΣΕ PDF\n					\n					\n				\n								\n				\n					\n				\n		\n					\n				\n				\n									\n					\n						\n									ΑΙΤΗΣΗ ΣΥΜΜΕΤΟΧΗΣ\n					\n					\n				\n								\n				\n					\n				\n		\n					\n		\n				\n				\n									Ομιλητές								\n				\n				\n				\n							\n			\n						\n		\n						\n				\n		\n		\n				\n				\n							\n				\n				\n			\n		\n				\n				\n			\n				Γροσομανίδης Δημήτριος			\n		\n				\n				\n				\n		\n						\n				\n				\n		\n				\n				\n							\n				\n				\n			\n		\n				\n				\n			\n				Δουβετζέμης Στέργιος			\n		\n				\n				\n				\n		\n						\n				\n				\n		\n				\n				\n							\n				\n				\n			\n		\n				\n				\n			\n				Μιχαλόπουλος Νικόλαος			\n		\n				\n				\n				\n		\n						\n				\n				\n				\n		\n		\n				\n				\n							\n				\n				\n			\n		\n				\n				\n			\n				Μπακάλη Αικατερίνη			\n		\n				\n				\n				\n		\n						\n				\n				\n		\n				\n				\n							\n				\n				\n			\n		\n				\n				\n			\n				Παρασκευάκου Γεωργία			\n		\n				\n				\n				\n		\n						\n				\n				\n		\n				\n				\n							\n				\n				\n			\n		\n				\n				\n			\n				Σταφυλά Βάϊα			\n		\n				\n				\n				\n		\n						\n				\n				\n				\n		\n		\n				\n				\n							\n				\n				\n			\n		\n				\n				\n			\n				Στυλιανάκη Αικατερίνη			\n		\n				\n				\n				\n		\n						\n				\n				\n		\n				\n				\n							\n				\n				\n			\n		\n				\n				\n			\n				Χατζόπουλος Κωνσταντίνος			\n		\n				\n				\n				\n		\n						\n				\n				\n		\n				\n				\n							\n				\n				\n			\n		\n				\n				\n			\n				Ζαμπάκος Γεώργιος			\n		\n				\n				\n				\n		\n						\n				\n				\n				\n				\n					\n				\n		\n					\n		\n				\n				\n									Επικοινωνία 								\n				\n				\n				\n							\n			\n						\n		\n						\n				\n				\n				\n									Υπεύθυνη προγράμματος 								\n				\n				\n				\n									Ελίνα Ιωαννίδου								\n				\n				\n				\n									e.ioannidou@nodeinstitute.org								\n				\n				\n				\n									info@nodeinstitute.org								\n				\n				\n					\n				\n		\n					\n				\n				\n									ΔΙΟΡΓΑΝΩΣΗ								\n				\n				\n				\n									Το σεμινάριο διοργανώνεται\, υποστηρίζεται και υλοποιείται από το Node Institute και πραγματοποιείται με την επιστημονική επιμέλεια της Δ’ Κλινικής Μαστού του Νοσοκομείου ΜΗΤΕΡΑ								\n				\n					\n				\n		\n					\n		\n				\n		\n				\n				\n																														\n				\n				\n		\n				\n				\n																														\n				\n				\n		\n				\n					\n				\n		\n					\n		\n				\n				\n					\n	\n		\n\n	\n	Add to calendar	\n		\n	\n\n		\n			\n									\n	Google Calendar\n\n									\n	iCalendar\n\n									\n	Outlook 365\n\n									\n	Outlook Live\n\n							\n		\n\n		\n	\n\n				\n				\n		\n		\n				\n				\n					\n	\n\n	Categories:	\n		Σεμινάρια χειρουργικής μαστού σε πτωματικά πρότυπα	\n\n				\n				\n				\n		\n				\n				\n		\n		\n				\n				\n		\n		\n				\n				\n					\n	\n		\n\n				Picc\, Port & Hickman (11/25)	\n\n\n		\n	\n		TaTME-TTSS Hands-On Cadaveric Dissection Course for Surgery of the Rectum			\n\n	\n\n				\n				\n				\n				\n				\n					\n				\n		\n					\n				\n				\n									Αίτηση Συμμετοχής 								\n				\n				\n				\n							\n			\n						\n		\n						\n				\n				\n				\n									\n									Οι εγγραφές για την εκδήλωση έχουν ολοκληρωθεί!
URL:https://www.nodeinstitute.org/event/breast-reconstruction-cadaveric-course/
CATEGORIES:Σεμινάρια χειρουργικής μαστού σε πτωματικά πρότυπα
ATTACH;FMTTYPE=image/jpeg:https://www.nodeinstitute.org/wp-content/uploads/2023/07/surgery-tools.jpg
END:VEVENT
END:VCALENDAR