BEGIN:VCALENDAR
VERSION:2.0
PRODID:-//Node Institute - ECPv6.15.18//NONSGML v1.0//EN
CALSCALE:GREGORIAN
METHOD:PUBLISH
X-WR-CALNAME:Node Institute
X-ORIGINAL-URL:https://www.nodeinstitute.org
X-WR-CALDESC:Events for Node Institute
REFRESH-INTERVAL;VALUE=DURATION:PT1H
X-Robots-Tag:noindex
X-PUBLISHED-TTL:PT1H
BEGIN:VTIMEZONE
TZID:Europe/Helsinki
BEGIN:DAYLIGHT
TZOFFSETFROM:+0200
TZOFFSETTO:+0300
TZNAME:EEST
DTSTART:20230326T010000
END:DAYLIGHT
BEGIN:STANDARD
TZOFFSETFROM:+0300
TZOFFSETTO:+0200
TZNAME:EET
DTSTART:20231029T010000
END:STANDARD
BEGIN:DAYLIGHT
TZOFFSETFROM:+0200
TZOFFSETTO:+0300
TZNAME:EEST
DTSTART:20240331T010000
END:DAYLIGHT
BEGIN:STANDARD
TZOFFSETFROM:+0300
TZOFFSETTO:+0200
TZNAME:EET
DTSTART:20241027T010000
END:STANDARD
BEGIN:DAYLIGHT
TZOFFSETFROM:+0200
TZOFFSETTO:+0300
TZNAME:EEST
DTSTART:20250330T010000
END:DAYLIGHT
BEGIN:STANDARD
TZOFFSETFROM:+0300
TZOFFSETTO:+0200
TZNAME:EET
DTSTART:20251026T010000
END:STANDARD
END:VTIMEZONE
BEGIN:VEVENT
DTSTART;VALUE=DATE:20241115
DTEND;VALUE=DATE:20241117
DTSTAMP:20260423T205839
CREATED:20240927T105908Z
LAST-MODIFIED:20240927T111416Z
UID:10685-1731628800-1731801599@www.nodeinstitute.org
SUMMARY:Cadaveric laparoscopic Colorectal course- collaboration with the University of Thessaly  (11/24)
DESCRIPTION:Cadaveric laparoscopic Colorectal course- collaboration with the University of Thessaly  (11/24)				\n				\n				\n				\n					\n		\n			15 Νοεμβρίου\n\n		\n	\n	  -  \n\n	16 Νοεμβρίου\n\n	\n				\n				\n				\n				\n					This event has passed. \n				\n				\n					\n		\n				\n			\n						\n				\n					\n	« All Events\n 				\n				\n					\n		\n					\n		\n				\n						\n					\n			\n						\n				\n									Το Πανεπιστήμιο Θεσσαλίας σε συνεργασία με το NoDE Institute\, στα πλαίσια του προγράμματος Μεταπτυχιακών Σπουδών «Χειρουργική Παχέος Εντέρου – Πρωκτού»\, δημιουργούν ένα διήμερο εκπαιδευτικό πρόγραμμα\, το οποίο απευθύνεται σε ειδικευόμενους και νέους ειδικευμένους γενικούς χειρουργούς.  								\n				\n				\n				\n									Το πρόγραμμα περιλαμβάνει:								\n				\n				\n				\n									εκπαίδευση σε προσομοιωτές 								\n				\n				\n				\n									παρακολούθηση επεμβάσεων σε πραγματικό χρόνο								\n				\n				\n				\n									πρακτική εξάσκηση σε νωπά πτωματικά παρασκευάσματα.								\n				\n				\n				\n									Σκοπός είναι η κατάρτιση και η σε βάθος\, διεξοδική και βασισμένη στα πλέον σύγχρονα επιστημονικά δεδομένα εκπαίδευσή των νέων χειρουργών σε ένα ευρύ πεδίο αιχμής της σύγχρονης Χειρουργικής\, όπως είναι η χειρουργική παχέος εντέρου και ορθού. 								\n				\n				\n				\n									Το εκπαιδευτικό διοργανώνεται από την εταιρεία Johnson & Johnson Hellas\, υποστηρίζεται επιστημονικά και υλοποιείται από το NoDE Institute. 								\n				\n					\n		\n					\n		\n				\n						\n					\n			\n						\n				\n									Πρόγραμμα Σεμιναρίου								\n				\n				\n				\n							\n			\n						\n		\n						\n				\n					\n		\n					\n		\n				\n						\n					\n			\n						\n				\n									Ημέρα 1η | Παρασκευή 15 Νοεμβρίου 2024								\n				\n				\n				\n							\n							\n											\n													\n										Αίθουσα προσομοίωσης NoDE Institute\, Νοσοκομείο ΥΓΕΙΑ\n									\n						\n						\n				\n					\n		\n					\n		\n				\n						\n					\n			\n						\n				\n									Team A 								\n				\n				\n						\n					\n			\n						\n				\n									08.00- 11.00								\n				\n					\n		\n				\n			\n						\n				\n									Βασικές Λαπαροσκοπικές Δεξιότητες								\n				\n				\n				\n							\n							\n											\n													\n										Αίσθηση βάθους πεδίου\n									\n								\n											\n													\n										Συγχρονισμός όρασης – κίνησης\n									\n								\n											\n													\n										Συνεργασία δεξιού – αριστερού χεριού\n									\n								\n											\n													\n										Χρήση βασικών λαπαροσκοπικών εργαλείων\n									\n								\n											\n													\n										Δισδιάστατη αντίληψη τρισδιάστατου χώρου\n									\n						\n						\n				\n				\n				\n									Προηγμένες Λαπαροσκοπικές Δεξιότητες								\n				\n				\n				\n							\n							\n											\n													\n										Σύνθετες ασκήσεις βασικών δεξιοτήτων\n									\n								\n											\n													\n										Ακρίβεια\n									\n								\n											\n													\n										Οικονομία κινήσεων\n									\n								\n											\n													\n										Λαπαροσκοπική συρραφή\n									\n						\n						\n				\n					\n		\n				\n			\n						\n				\n							\n				\n				\n			\n		\n				\n				\n			\n				Πανουσόπουλος Άκης			\n		\n				\n				\n				\n		\n						\n				\n					\n		\n					\n		\n					\n		\n					\n		\n				\n						\n					\n			\n						\n				\n									Team B 								\n				\n				\n						\n					\n			\n						\n				\n									11.00 – 14:00 								\n				\n					\n		\n				\n			\n						\n				\n									Βασικές Λαπαροσκοπικές Δεξιότητες								\n				\n				\n				\n							\n							\n											\n													\n										Αίσθηση βάθους πεδίου\n									\n								\n											\n													\n										Συγχρονισμός όρασης – κίνησης\n									\n								\n											\n													\n										Συνεργασία δεξιού – αριστερού χεριού\n									\n								\n											\n													\n										Χρήση βασικών λαπαροσκοπικών εργαλείων\n									\n								\n											\n													\n										Δισδιάστατη αντίληψη τρισδιάστατου χώρου\n									\n						\n						\n				\n				\n				\n									Προηγμένες Λαπαροσκοπικές Δεξιότητες								\n				\n				\n				\n							\n							\n											\n													\n										Σύνθετες ασκήσεις βασικών δεξιοτήτων\n									\n								\n											\n													\n										Ακρίβεια\n									\n								\n											\n													\n										Οικονομία κινήσεων\n									\n								\n											\n													\n										Λαπαροσκοπική συρραφή\n									\n						\n						\n				\n					\n		\n				\n			\n						\n				\n							\n				\n				\n			\n		\n				\n				\n			\n				Αλεξάκου Παρασκευή\, MD			\n		\n				\n				\n				\n		\n						\n				\n					\n		\n					\n		\n					\n		\n					\n		\n				\n						\n					\n			\n						\n				\n									Team C 								\n				\n				\n						\n					\n			\n						\n				\n									11.00 – 14:00 								\n				\n					\n		\n				\n			\n						\n				\n									Βασικές Λαπαροσκοπικές Δεξιότητες								\n				\n				\n				\n							\n							\n											\n													\n										Αίσθηση βάθους πεδίου\n									\n								\n											\n													\n										Συγχρονισμός όρασης – κίνησης\n									\n								\n											\n													\n										Συνεργασία δεξιού – αριστερού χεριού\n									\n								\n											\n													\n										Χρήση βασικών λαπαροσκοπικών εργαλείων\n									\n								\n											\n													\n										Δισδιάστατη αντίληψη τρισδιάστατου χώρου\n									\n						\n						\n				\n				\n				\n									Προηγμένες Λαπαροσκοπικές Δεξιότητες								\n				\n				\n				\n							\n							\n											\n													\n										Σύνθετες ασκήσεις βασικών δεξιοτήτων\n									\n								\n											\n													\n										Ακρίβεια\n									\n								\n											\n													\n										Οικονομία κινήσεων\n									\n								\n											\n													\n										Λαπαροσκοπική συρραφή\n									\n						\n						\n				\n					\n		\n				\n			\n						\n				\n							\n				\n				\n			\n		\n				\n				\n			\n				Παραδέλλης Δουκάκης			\n		\n				\n				\n				\n		\n						\n				\n					\n		\n					\n		\n					\n		\n					\n		\n				\n						\n					\n			\n						\n				\n									Ημέρα 2η | Σάββατο 16 Νοεμβρίου 2024 								\n				\n				\n				\n							\n							\n											\n													\n										Ερευνητικό και Πειραματικό κέντρο της ΕΛΠΕΝ\n									\n						\n						\n				\n					\n		\n					\n		\n				\n						\n					\n			\n						\n						\n					\n			\n						\n				\n									08.30 								\n				\n					\n		\n				\n			\n						\n				\n									Welcome 								\n				\n					\n		\n				\n			\n							\n		\n					\n		\n				\n						\n					\n			\n						\n				\n									09:00- 12.00								\n				\n					\n		\n				\n			\n						\n				\n									Λαπαροσκοπική Δεξιά κολεκτομή 								\n				\n				\n				\n									Λαπαροσκοπική Αριστερή κολεκτομή								\n				\n					\n		\n				\n			\n							\n		\n					\n		\n				\n						\n					\n			\n						\n				\n									12.00-12.30 								\n				\n					\n		\n				\n			\n						\n				\n									Break 								\n				\n					\n		\n				\n			\n							\n		\n					\n		\n				\n						\n					\n			\n						\n				\n									12.30-15.00								\n				\n					\n		\n				\n			\n						\n				\n									Χαμηλή Πρόσθια εκτομή								\n				\n					\n		\n				\n			\n							\n		\n					\n		\n				\n						\n					\n			\n						\n				\n							\n				\n				\n			\n		\n				\n				\n			\n				Τζοβάρας Γεώργιος			\n		\n				\n				\n				\n		\n						\n				\n					\n		\n				\n			\n						\n				\n							\n				\n				\n			\n		\n				\n				\n			\n				Μπαλογιάννης Ιωάννης			\n		\n				\n				\n				\n		\n						\n				\n					\n		\n				\n			\n						\n				\n							\n				\n				\n			\n		\n				\n				\n			\n				Συμεωνίδης Δημήτριος			\n		\n				\n				\n				\n		\n						\n				\n					\n		\n					\n		\n				\n						\n					\n			\n						\n				\n							\n				\n				\n			\n		\n				\n				\n			\n				Μαυραντώνης Κωνσταντίνος\, Ιδρυτής\, Γενικός Διευθυντής			\n		\n				\n				\n				\n		\n						\n				\n					\n		\n				\n			\n						\n				\n							\n				\n				\n			\n		\n				\n				\n			\n				Μπολτσής Νίκος			\n		\n				\n				\n				\n		\n						\n				\n					\n		\n				\n			\n						\n				\n							\n				\n				\n			\n		\n				\n				\n			\n				Πανούσης Γεώργιος			\n		\n				\n				\n				\n		\n						\n				\n					\n		\n					\n		\n					\n		\n					\n		\n				\n						\n					\n			\n						\n				\n									Επικοινωνία								\n				\n				\n				\n							\n			\n						\n		\n						\n				\n				\n				\n									Υπεύθυνη προγράμματοςΑργυρώ Τσιριγώτηe-mail: a.tsirigoti@nodeinstitute.orginfo@nodeinstitute.org 								\n				\n					\n		\n					\n		\n				\n						\n					\n			\n						\n				\n					\n	\n		\n\n	\n	Add to calendar	\n		\n	\n\n		\n			\n									\n	Google Calendar\n\n									\n	iCalendar\n\n									\n	Outlook 365\n\n									\n	Outlook Live\n\n							\n		\n\n		\n	\n\n				\n				\n				\n						\n					\n			\n						\n				\n					\n	\n\n	Categories:	\n		LAPAROSCOPIC COLORECTAL SURGERY CADAVERIC DISSECTION COURSE	\n\n				\n				\n					\n		\n				\n			\n							\n		\n					\n		\n				\n						\n					\n			\n							\n		\n					\n		\n				\n						\n					\n			\n						\n				\n					\n	\n		\n\n				Picc\, Port & Hickman 10/24	\n\n\n		\n	\n		VATS Lobectomy course with hands-on practice (12.2024)
URL:https://www.nodeinstitute.org/event/colorectal-cadeveric-course-11-24/
CATEGORIES:LAPAROSCOPIC COLORECTAL SURGERY CADAVERIC DISSECTION COURSE
ATTACH;FMTTYPE=image/png:https://www.nodeinstitute.org/wp-content/uploads/2023/08/gynaecologic-laparoscopic.png
END:VEVENT
END:VCALENDAR