BEGIN:VCALENDAR
VERSION:2.0
PRODID:-//Node Institute - ECPv6.15.18//NONSGML v1.0//EN
CALSCALE:GREGORIAN
METHOD:PUBLISH
X-WR-CALNAME:Node Institute
X-ORIGINAL-URL:https://www.nodeinstitute.org
X-WR-CALDESC:Events for Node Institute
REFRESH-INTERVAL;VALUE=DURATION:PT1H
X-Robots-Tag:noindex
X-PUBLISHED-TTL:PT1H
BEGIN:VTIMEZONE
TZID:Europe/Athens
BEGIN:DAYLIGHT
TZOFFSETFROM:+0200
TZOFFSETTO:+0300
TZNAME:EEST
DTSTART:20240331T010000
END:DAYLIGHT
BEGIN:STANDARD
TZOFFSETFROM:+0300
TZOFFSETTO:+0200
TZNAME:EET
DTSTART:20241027T010000
END:STANDARD
BEGIN:DAYLIGHT
TZOFFSETFROM:+0200
TZOFFSETTO:+0300
TZNAME:EEST
DTSTART:20250330T010000
END:DAYLIGHT
BEGIN:STANDARD
TZOFFSETFROM:+0300
TZOFFSETTO:+0200
TZNAME:EET
DTSTART:20251026T010000
END:STANDARD
BEGIN:DAYLIGHT
TZOFFSETFROM:+0200
TZOFFSETTO:+0300
TZNAME:EEST
DTSTART:20260329T010000
END:DAYLIGHT
BEGIN:STANDARD
TZOFFSETFROM:+0300
TZOFFSETTO:+0200
TZNAME:EET
DTSTART:20261025T010000
END:STANDARD
END:VTIMEZONE
BEGIN:VEVENT
DTSTART;VALUE=DATE:20250928
DTEND;VALUE=DATE:20250929
DTSTAMP:20260423T223125
CREATED:20250630T083447Z
LAST-MODIFIED:20250904T131325Z
UID:12491-1759017600-1759103999@www.nodeinstitute.org
SUMMARY:Hernia Cadaveric Dissection Course (09.25)
DESCRIPTION:28 Σεπτεμβρίου\n\n		\n\n\n	\n				\n				\n				\n				\n					\n	Hernia Cadaveric Dissection Course (09.25)				\n				\n				\n				\n							\n							\n											\n													\n										Ερευνητικό & Πειραματικό Κέντρο ΕΛΠΕΝ\n									\n						\n						\n				\n				\n				\n					This event has passed. \n				\n				\n				\n		\n				\n				\n									\n					\n						\n						\n							\n									Όλα τα σεμινάρια\n					\n					\n				\n								\n				\n				\n				\n					\n	« All Σεμινάρια\n 				\n				\n				\n					\n				\n		\n					\n		\n				\n				\n									Με ιδιαίτερη χαρά και τιμή\, σας προσκαλούμε να συμμετάσχετε στο μονοήμερο εξειδικευμένο σεμινάριο Hernia Cadaveric Dissection Course. 								\n				\n				\n				\n									To σεμινάριο είναι σχεδιασμένο για γενικούς χειρουργούς και εστιάζει σε επεμβάσεις χειρουργικής αποκατάστασης κήλης καλύπτοντας τεχνικές όπως οι TEP\, TAP\, TARR\, καθώς και τεχνικές πρόληψης της μετεγχειρητικής κοιλιοκήλης.								\n				\n				\n				\n									Το σεμινάριο περιλαμβάνει διαλέξεις\, επεξηγηματικά βίντεο και hands-on εκπαίδευση σε νωπά ανθρώπινα πτωματικά παρασκευάσματα\, σε μικρές ομάδες εκπαίδευσης υπό τη συνεχή καθοδήγηση έμπειρων εκπαιδευτών\, διασφαλίζοντας ένα ρεαλιστικό χειρουργικό περιβάλλον για τους εκπαιδευόμενους.								\n				\n				\n				\n									Σας περιμένουμε να συμμετάσχετε ενεργά σε αυτή την εκπαιδευτική πρωτοβουλία\, που στόχο έχει τη βελτίωση της κλινικής μας πρακτικής και\, κατ’ επέκταση\, την καλύτερη φροντίδα των ασθενών μας.								\n				\n				\n				\n									Οι εγγραφές για την εκδήλωση έχουν ολοκληρωθεί. 								\n				\n				\n				\n									Εξασκηθούν σε τεχνικές λαπαροσκοπικών ουρολογικών επεμβάσεων								\n				\n				\n				\n									 								\n				\n				\n					\n				\n		\n					\n				\n				\n									Κυριακή 28 Σεπτεμβρίου 2025								\n				\n					\n				\n		\n					\n				\n				\n									TEAM A 								\n				\n					\n				\n		\n					\n		\n		\n				\n				\n									08:00-09:00								\n				\n				\n		\n				\n				\n									TAPP 								\n				\n				\n				\n									– Step by Step Procedure Overview                                          								\n				\n				\n				\n							\n							\n											\n													\n										Auditorium\n									\n						\n						\n				\n				\n		\n				\n				\n							\n				\n				\n			\n		\n				\n				\n			\n				Πανούσης Γεώργιος			\n		\n				\n				\n				\n		\n						\n				\n				\n		\n				\n				\n							\n				\n				\n			\n		\n				\n				\n			\n				Αγιομαμίτης Γεώργιος			\n		\n				\n				\n				\n		\n						\n				\n				\n				\n					\n				\n		\n					\n		\n		\n				\n				\n									09:00- 11:30								\n				\n				\n		\n				\n				\n									Cadaveric Dissection								\n				\n				\n				\n									– Trocar Positioning								\n				\n				\n				\n									– Distant Esophageal Exposure								\n				\n				\n				\n									– Mesh Reinforcement 								\n				\n				\n				\n							\n							\n											\n													\n										Operation Room (TORSO #1)\n									\n						\n						\n				\n				\n		\n				\n				\n							\n				\n				\n			\n		\n				\n				\n			\n				Πανούσης Γεώργιος			\n		\n				\n				\n				\n		\n						\n				\n				\n		\n				\n				\n							\n				\n				\n			\n		\n				\n				\n			\n				Αγιομαμίτης Γεώργιος			\n		\n				\n				\n				\n		\n						\n				\n				\n				\n					\n				\n		\n					\n				\n				\n									TEAM B  								\n				\n					\n				\n		\n					\n		\n		\n				\n				\n									09:00-10:00								\n				\n				\n		\n				\n				\n									TEP  								\n				\n				\n				\n									– Anatomical Landmarks								\n				\n				\n				\n									– Step by Step procedure overview								\n				\n				\n				\n							\n							\n											\n													\n										Auditorium\n									\n						\n						\n				\n				\n		\n				\n				\n							\n				\n				\n			\n		\n				\n				\n			\n				Χρυσοχέρης Σ. Περικλής			\n		\n				\n				\n				\n		\n						\n				\n				\n		\n				\n				\n							\n				\n				\n			\n		\n				\n				\n			\n				Μαθιουλάκη Αντωνία			\n		\n				\n				\n				\n		\n						\n				\n				\n				\n							\n				\n				\n			\n		\n				\n				\n			\n				Εμμανουηλίδης Μιχαήλ			\n		\n				\n				\n				\n		\n						\n				\n				\n				\n					\n				\n		\n					\n		\n		\n				\n				\n									10:00- 12:00								\n				\n				\n		\n				\n				\n									Cadaveric Dissection								\n				\n				\n				\n									– Port Positioning								\n				\n				\n				\n									– Preperitoneal Space Separation								\n				\n				\n				\n									– Mesh Placement								\n				\n				\n				\n							\n							\n											\n													\n										Operation Room (TORSO #2)\n									\n						\n						\n				\n				\n		\n				\n				\n							\n				\n				\n			\n		\n				\n				\n			\n				Χρυσοχέρης Σ. Περικλής			\n		\n				\n				\n				\n		\n						\n				\n				\n		\n				\n				\n							\n				\n				\n			\n		\n				\n				\n			\n				Μαθιουλάκη Αντωνία			\n		\n				\n				\n				\n		\n						\n				\n				\n				\n							\n				\n				\n			\n		\n				\n				\n			\n				Εμμανουηλίδης Μιχαήλ			\n		\n				\n				\n				\n		\n						\n				\n				\n				\n					\n				\n		\n					\n				\n				\n									TEAM C								\n				\n					\n				\n		\n					\n		\n		\n				\n				\n									11:00-12:00 								\n				\n				\n		\n				\n				\n									TAR  								\n				\n				\n				\n									– Anatomy								\n				\n				\n				\n									– Step by Step Procedure Overview								\n				\n				\n				\n							\n							\n											\n													\n										Auditorium\n									\n						\n						\n				\n				\n		\n				\n				\n							\n				\n				\n			\n		\n				\n				\n			\n				Χρυσοχέρης Σ. Περικλής			\n		\n				\n				\n				\n		\n						\n				\n				\n		\n				\n				\n							\n				\n				\n			\n		\n				\n				\n			\n				Μαθιουλάκη Αντωνία			\n		\n				\n				\n				\n		\n						\n				\n				\n				\n							\n				\n				\n			\n		\n				\n				\n			\n				Θεοδώρου Αλέξης			\n		\n				\n				\n				\n		\n						\n				\n				\n				\n					\n				\n		\n					\n		\n		\n				\n				\n									12:00-13:00								\n				\n				\n		\n				\n				\n									Cadaveric Dissection								\n				\n				\n				\n									– Posterior Rectus Sheath Dissection								\n				\n				\n				\n									– Transversus Abdominal Release								\n				\n				\n				\n									– Mesh Placement								\n				\n				\n				\n							\n							\n											\n													\n										Operation Room (TORSOS #1 & #2)\n									\n						\n						\n				\n				\n		\n				\n				\n							\n				\n				\n			\n		\n				\n				\n			\n				Χρυσοχέρης Σ. Περικλής			\n		\n				\n				\n				\n		\n						\n				\n				\n		\n				\n				\n							\n				\n				\n			\n		\n				\n				\n			\n				Μαθιουλάκη Αντωνία			\n		\n				\n				\n				\n		\n						\n				\n				\n				\n							\n				\n				\n			\n		\n				\n				\n			\n				Θεοδώρου Αλέξης			\n		\n				\n				\n				\n		\n						\n				\n				\n				\n					\n				\n		\n					\n				\n				\n									TEAM D								\n				\n					\n				\n		\n					\n		\n		\n				\n				\n									12:00-13:00								\n				\n				\n		\n				\n				\n									Incisional Hernia Prevention  								\n				\n				\n				\n									– Anatomical Landmarks								\n				\n				\n				\n									– Step by Step procedure overview								\n				\n				\n				\n							\n							\n											\n													\n										Auditorium\n									\n						\n						\n				\n				\n		\n				\n				\n							\n				\n				\n			\n		\n				\n				\n			\n				Μπαγγέας Πέτρος			\n		\n				\n				\n				\n		\n						\n				\n				\n		\n				\n				\n							\n				\n				\n			\n		\n				\n				\n			\n				Θεοδώρου Αλέξης			\n		\n				\n				\n				\n		\n						\n				\n				\n				\n					\n				\n		\n					\n		\n		\n				\n				\n									13:00 								\n				\n				\n		\n				\n				\n									Lunch Break								\n				\n				\n		\n				\n				\n					\n				\n		\n					\n		\n		\n				\n				\n									13:30-15:30								\n				\n				\n		\n				\n				\n									Cadaveric Dissection								\n				\n				\n				\n									– Midline Laparotomy incision								\n				\n				\n				\n									– Mesh Placement and Fixation								\n				\n				\n				\n							\n							\n											\n													\n										Operation Room (TORSOS #1 & #2)\n									\n						\n						\n				\n				\n		\n				\n				\n							\n				\n				\n			\n		\n				\n				\n			\n				Μπαγγέας Πέτρος			\n		\n				\n				\n				\n		\n						\n				\n				\n		\n				\n				\n							\n				\n				\n			\n		\n				\n				\n			\n				Θεοδώρου Αλέξης			\n		\n				\n				\n				\n		\n						\n				\n				\n				\n					\n				\n		\n					\n		\n		\n				\n				\n									16:00								\n				\n				\n		\n				\n				\n									End of Course								\n				\n				\n		\n				\n				\n					\n				\n		\n					\n		\n				\n				\n									Ομιλητές								\n				\n				\n				\n							\n			\n						\n		\n						\n				\n		\n		\n				\n				\n							\n				\n				\n			\n		\n				\n				\n			\n				Αγιομαμίτης Γεώργιος			\n		\n				\n				\n				\n		\n						\n				\n				\n		\n				\n				\n							\n				\n				\n			\n		\n				\n				\n			\n				Εμμανουηλίδης Μιχαήλ			\n		\n				\n				\n				\n		\n						\n				\n				\n		\n				\n				\n							\n				\n				\n			\n		\n				\n				\n			\n				Θεοδώρου Αλέξης			\n		\n				\n				\n				\n		\n						\n				\n				\n				\n		\n		\n				\n				\n							\n				\n				\n			\n		\n				\n				\n			\n				Μαθιουλάκη Αντωνία			\n		\n				\n				\n				\n		\n						\n				\n				\n		\n				\n				\n							\n				\n				\n			\n		\n				\n				\n			\n				Μπαγγέας Πέτρος			\n		\n				\n				\n				\n		\n						\n				\n				\n		\n				\n				\n							\n				\n				\n			\n		\n				\n				\n			\n				Πανούσης Γεώργιος			\n		\n				\n				\n				\n		\n						\n				\n				\n				\n		\n		\n				\n				\n							\n				\n				\n			\n		\n				\n				\n			\n				Χρυσοχέρης Σ. Περικλής			\n		\n				\n				\n				\n		\n						\n				\n				\n		\n				\n		\n				\n				\n				\n					\n				\n		\n					\n		\n				\n				\n									Επικοινωνία 								\n				\n				\n				\n							\n			\n						\n		\n						\n				\n				\n				\n									Υπεύθυνη προγράμματος\n								\n				\n				\n				\n									Ελίνα Ιωαννίδου								\n				\n				\n				\n									e.ioannidou@nodeinstitute.org								\n				\n				\n				\n									Dionisia.Doulaveri@nodeinstitute.org 								\n				\n				\n				\n									info@nodeinstitute.org								\n				\n				\n					\n				\n		\n					\n				\n				\n									ΔΙΟΡΓΑΝΩΣΗ								\n				\n				\n				\n									Tο σεμινάριο διοργανώνεται από την Becton Dickinson Hellas\, υλοποιείται και υποστηρίζεται επιστημονικά από το Node Institute.								\n				\n					\n				\n		\n					\n		\n				\n		\n				\n				\n																														\n				\n				\n		\n				\n				\n																														\n				\n				\n		\n				\n					\n				\n		\n					\n		\n				\n				\n					\n	\n		\n\n	\n	Add to calendar	\n		\n	\n\n		\n			\n									\n	Google Calendar\n\n									\n	iCalendar\n\n									\n	Outlook 365\n\n									\n	Outlook Live\n\n							\n		\n\n		\n	\n\n				\n				\n		\n		\n				\n				\n					\n	\n\n	Categories:	\n		Πτωματικά σεμινάρια κηλών	\n\n				\n				\n				\n		\n				\n				\n		\n		\n				\n				\n					\n				\n				\n	\n	Ερευνητικό & Πειραματικό κέντρο ELPEN\n	\n	\n\nΛεωφ. Μαραθώνος 95\, 190 09 Πικέρμι Αττικής\n	\n\n\n\n	Ελλάδα\n\n\n\n\n	+ Google Map \n\n\n	\n					\n						\n	 \n\n\n	\n	 \n\n\n\n	\n\n\n\n		\n	\n				\n				\n				\n				\n		\n		\n				\n				\n					\n	\n		\n\n				Robotic Urology Surgery (Animal Use Course)	\n\n\n		\n	\n		CLASS Courses 2025 | 4ος Κύκλος
URL:https://www.nodeinstitute.org/event/hernia-cadaveric-dissection-course-09-25/
LOCATION:Ερευνητικό & Πειραματικό κέντρο ELPEN\, Λεωφ. Μαραθώνος 95\, 190 09 Πικέρμι Αττικής\, Ελλάδα
CATEGORIES:Πτωματικά σεμινάρια κηλών
ATTACH;FMTTYPE=image/jpeg:https://www.nodeinstitute.org/wp-content/uploads/2021/10/NODE-institute-doctor.jpg
END:VEVENT
END:VCALENDAR